BEGIN:VCALENDAR
VERSION:2.0
PRODID:-//eventon.com NONSGML v1.0//EN
CALSCALE:GREGORIAN
METHOD:PUBLISH
BEGIN:VEVENT
UID:69e8bef3973ba
DTSTAMP:20260422T122835Z
DTSTART:20260924T120000Z
DTEND:20260924T010000Z
LOCATION:
SUMMARY:NAAIA National Conference
DESCRIPTION:NAAIA National Conference\nhttps://naaia.org/events/naaia-natio
 nal-conference/var/ri-2.l-L1
URL:https://naaia.org/events/naaia-national-conference/var/ri-2.l-L1
END:VEVENT
END:VCALENDAR