BEGIN:VCALENDAR
VERSION:2.0
PRODID:-//eventon.com NONSGML v1.0//EN
CALSCALE:GREGORIAN
METHOD:PUBLISH
BEGIN:VEVENT
UID:69e73daf0bc64
DTSTAMP:20260421T090447Z
DTSTART:20260721T120000Z
DTEND:20260721T010000Z
LOCATION:
SUMMARY:National Leadership Summit
DESCRIPTION:National Leadership Summit\nhttps://naaia.org/events/national-l
 eadership-summit-2/
URL:https://naaia.org/events/national-leadership-summit-2/
END:VEVENT
END:VCALENDAR