BEGIN:VCALENDAR
VERSION:2.0
PRODID:-//eventon.com NONSGML v1.0//EN
CALSCALE:GREGORIAN
METHOD:PUBLISH
BEGIN:VEVENT
UID:69e753cd22ce5
DTSTAMP:20260421T103909Z
DTSTART:20261016T120000Z
DTEND:20261016T010000Z
LOCATION:
SUMMARY:National Talent Development Competition
DESCRIPTION:National Talent Development Competition\nhttps://naaia.org/even
 ts/national-talent-development-competition-3/var/ri-2.l-L1
URL:https://naaia.org/events/national-talent-development-competition-3/var/ri-2.l-L1
END:VEVENT
END:VCALENDAR