BEGIN:VCALENDAR
VERSION:2.0
PRODID:-//eventon.com NONSGML v1.0//EN
CALSCALE:GREGORIAN
METHOD:PUBLISH
BEGIN:VEVENT
UID:69e4cee208d31
DTSTAMP:20260419T124730Z
DTSTART:20250423T120000Z
DTEND:20250423T210000Z
LOCATION:
SUMMARY:Central Regional Forum
DESCRIPTION:\nhttps://naaia.org/events/central-regional-forum/
URL:https://naaia.org/events/central-regional-forum/
END:VEVENT
END:VCALENDAR