BEGIN:VCALENDAR
VERSION:2.0
PRODID:-//eventon.com NONSGML v1.0//EN
CALSCALE:GREGORIAN
METHOD:PUBLISH
BEGIN:VEVENT
UID:69ea38dae6678
DTSTAMP:20260423T152058Z
DTSTART:20250403T120000Z
DTEND:20250403T210000Z
LOCATION:
SUMMARY:Northeast Regional Forum
DESCRIPTION:\nhttps://naaia.org/events/northeast-regional-forum/
URL:https://naaia.org/events/northeast-regional-forum/
END:VEVENT
END:VCALENDAR