BEGIN:VCALENDAR
VERSION:2.0
PRODID:-//eventon.com NONSGML v1.0//EN
CALSCALE:GREGORIAN
METHOD:PUBLISH
BEGIN:VEVENT
UID:69ed907e593b0
DTSTAMP:20260426T041142Z
DTSTART:20250909T120000Z
DTEND:20250909T120000Z
LOCATION:
SUMMARY:Life Insurance Awareness Month
DESCRIPTION:\nhttps://naaia.org/events/life-insurance-awareness-month-2/
URL:https://naaia.org/events/life-insurance-awareness-month-2/
END:VEVENT
END:VCALENDAR