BEGIN:VCALENDAR
VERSION:2.0
PRODID:-//eventon.com NONSGML v1.0//EN
CALSCALE:GREGORIAN
METHOD:PUBLISH
BEGIN:VEVENT
UID:69e9e01642a08
DTSTAMP:20260423T090214Z
DTSTART:20250805T080000Z
DTEND:20250805T170000Z
LOCATION:https://bit.ly/NAAIA25ABS
SUMMARY:Agent + Broker Summit
DESCRIPTION:Designed for producers and professionals in the agency space\, 
  the Agent + Broker Summit focuses on strategies to build meaningful client
  relationships\,  sharpen your value proposition\,  and scale your business
  with authenticity. This one-day summit is packed with actionable insights 
 on agency growth\,  marketing\,  community impact\,  and what it takes[..]\
 nhttps://naaia.org/events/agent-broker-summit/var/event_access
URL:https://naaia.org/events/agent-broker-summit/var/event_access
END:VEVENT
END:VCALENDAR