BEGIN:VCALENDAR
VERSION:2.0
PRODID:-//eventon.com NONSGML v1.0//EN
CALSCALE:GREGORIAN
METHOD:PUBLISH
BEGIN:VEVENT
UID:69e7503eb1d0c
DTSTAMP:20260421T102358Z
DTSTART:20241018T010000Z
DTEND:20241018T030000Z
LOCATION:
SUMMARY:NAAIA Informational - Seattle
DESCRIPTION:\nhttps://naaia.org/events/naaia-informational-seattle/
URL:https://naaia.org/events/naaia-informational-seattle/
END:VEVENT
END:VCALENDAR